BEGIN:VCALENDAR
VERSION:2.0
PRODID:-//Squarespace Inc/Squarespace 6//v6//EN
BEGIN:VEVENT
UID:6004edc68a2b87460a16de9f@squarespace.com
DTSTAMP:20210218T064638Z
DTSTART:20210220T130000Z
DTEND:20210221T033000Z
SUMMARY:160th MAITLAND SHOW
END:VEVENT
END:VCALENDAR
