BEGIN:VCALENDAR
VERSION:2.0
PRODID:-//Squarespace Inc/Squarespace 6//v6//EN
BEGIN:VEVENT
UID:5fc5bd2a3c02f22b9dd34a7e@squarespace.com
DTSTAMP:20201201T035043Z
DTSTART:20210904T050000Z
DTEND:20210912T060000Z
SUMMARY:2021 Adelaide Show
END:VEVENT
END:VCALENDAR
