BEGIN:VCALENDAR
VERSION:2.0
PRODID:-//Squarespace Inc/Squarespace 6//v6//EN
BEGIN:VEVENT
UID:602e0d871638c94919c82bb5@squarespace.com
DTSTAMP:20210218T065231Z
DTSTART:20210312T220000Z
DTEND:20210314T050000Z
SUMMARY:HERDING WITHOUT HURTING STRESS FREE STOCKMANSHIP
GEO:-33.433333;148.366667
LOCATION:Kennedy Creek Livestock Centre\, Eugowra\, NSW\, 2806\, Australia
END:VEVENT
END:VCALENDAR
