BEGIN:VCALENDAR
VERSION:2.0
PRODID:-//Squarespace Inc/Squarespace 6//v6//EN
BEGIN:VEVENT
UID:5f31f9ba61e8321c3c9361d8@squarespace.com
DTSTAMP:20200907T055229Z
DTSTART:20200831T233000Z
DTEND:20200902T003000Z
SUMMARY:2020 BGBAA National and NSW State Show
GEO:40.720756;-74.000761
LOCATION:Borenore\, NSW\, Australia
END:VEVENT
END:VCALENDAR
