BEGIN:VCALENDAR
VERSION:2.0
PRODID:-//Squarespace Inc/Squarespace 6//v6//EN
BEGIN:VEVENT
UID:602e0adce742212c667798de@squarespace.com
DTSTAMP:20210218T064146Z
DTSTART:20210220T230000Z
DTEND:20210221T045500Z
SUMMARY:Tasmanian Boer Goat Championships
END:VEVENT
END:VCALENDAR
